BEGIN:VCALENDAR
VERSION:2.0
PRODID:-//Vespa Club Czech Republic - ECPv6.11.2//NONSGML v1.0//EN
CALSCALE:GREGORIAN
METHOD:PUBLISH
X-WR-CALNAME:Vespa Club Czech Republic
X-ORIGINAL-URL:https://www.vespaclub.cz
X-WR-CALDESC:Akce na Vespa Club Czech Republic
REFRESH-INTERVAL;VALUE=DURATION:PT1H
X-Robots-Tag:noindex
X-PUBLISHED-TTL:PT1H
BEGIN:VTIMEZONE
TZID:Europe/Prague
BEGIN:DAYLIGHT
TZOFFSETFROM:+0100
TZOFFSETTO:+0200
TZNAME:CEST
DTSTART:20260329T010000
END:DAYLIGHT
BEGIN:STANDARD
TZOFFSETFROM:+0200
TZOFFSETTO:+0100
TZNAME:CET
DTSTART:20261025T010000
END:STANDARD
END:VTIMEZONE
BEGIN:VEVENT
DTSTART;TZID=Europe/Prague:20260624T080000
DTEND;TZID=Europe/Prague:20260628T170000
DTSTAMP:20260424T102551
CREATED:20250725T144532Z
LAST-MODIFIED:20260207T101225Z
UID:2156-1782288000-1782666000@www.vespaclub.cz
SUMMARY:Vespa World Days 2026
DESCRIPTION:Vespa World Days 2026 se budou konat v Římě ve dnech 25. – 28.6.2026 v centru\, nedaleko Olympijského stadionu\, na břehu Tibery. \nPořádá: Vespa Club D´Italia\nfacebook \nwebové stránky   \n  \n3.2. aktuální informace\n \n\nNová informace pro zájemce o účast na mezinárodním vespa srazu Vespa World Days 25.-28.6. 2026 Roma!\nRegistrační poplatek je 120 eur na osobu a zahrnuje dárkový batůžek s tričkem\, nášivkou\, nálepkou a odznakem\, dále pak garantované parkování ve Village a několik dalších drobností.\nMísto konání: areál Foro Italico poblíž olympijského stadionu na břehu řeky Tibery. V sobotu\n27.6. se bude konat hlavní jízda po Římě. Bude také možné se registrovat na různé skupinové\, zpoplatněné výlety. Zatím nebyly vypsány.\n\n\n\n\n\nProstory pro ubytování (domluvené kempy apod.) zatím stále nebyly určeny a stále se ještě jedná o povolení účasti starších modelů vespa s dvoutaktními motory z důvodu přísné\, římské nízkoemisní zóny….. Více informací bychom se měli dozvědět do 14. února.\nOd 15. února půjde registrovat účastníky do systému. Na Českou republiku je vyčleněno 120 míst a doposud se mi předběžně přihlásilo 46 účastníků.Zájemci\, přihlašujte se výhradně před prezidenty vašich klubů.Potřebuji znát rok narození\, velikost trička a typ vespy. \nVíťa Křížek \n \n\n\n 
URL:https://www.vespaclub.cz/event/vespa-world-days-2026/
LOCATION:Italy\, Pizzalle Del Stadio Olimpic\, Řím\, Italy
ATTACH;FMTTYPE=image/jpeg:https://www.vespaclub.cz/wp-content/uploads/2025/07/20262807_novinky_VWDRoma.jpg
END:VEVENT
BEGIN:VEVENT
DTSTART;VALUE=DATE:20260626
DTEND;VALUE=DATE:20260629
DTSTAMP:20260424T102551
CREATED:20251221T122701Z
LAST-MODIFIED:20251221T122701Z
UID:2292-1782432000-1782691199@www.vespaclub.cz
SUMMARY:Vespou na koupaliště Klášter
DESCRIPTION:Zveme všechny milovníky značky Vespa\, pohodové jízdy a letní atmosféry na 3. ročník setkání „Vespou na koupaliště Klášter“. Čeká nás prodloužený víkend plný Vesp\, přátelských setkání a odpočinku v krásném prostředí. \nMísto konání: Koupaliště Klášter\nAkce se uskuteční v areálu koupaliště Klášter\, které je oblíbené pro svou klidnou atmosféru\, příjemné zázemí a okolní přírodu. Ideální místo\, kde spojit radost z jízdy na Vespě s relaxem u vody a letní pohodou. Koupaliště nabízí prostor jak pro odpočinek\, tak pro společné posezení a neformální setkávání. \nCo vás čeká\nSetkání je otevřené všem – ať už přijedete na Vespě\, nebo se jen chcete podívat\, pobavit se a nasát atmosféru. Hlavním cílem akce je užít si společný čas\, sdílet vášeň Vespám a strávit pohodový víkend s lidmi na stejné vlně. \nProgram bude upřesněn a doplněn.
URL:https://www.vespaclub.cz/event/vespou-na-koupaliste-klaster/
LOCATION:Koupaliště Klášter\, Klášter Hradiště nad Jizerou
ATTACH;FMTTYPE=image/jpeg:https://www.vespaclub.cz/wp-content/uploads/2025/12/20260626_boleslav_koupaliste.jpg
END:VEVENT
END:VCALENDAR